BEGIN:VCALENDAR
VERSION:2.0
PRODID:-//jEvents 2.0 for Joomla//EN
CALSCALE:GREGORIAN
METHOD:PUBLISH
BEGIN:VEVENT
UID:2e1e5919d75675ad40a5a4f732d414bb
CATEGORIES:Abt. Holzen
CREATED:20250106T113601
SUMMARY:Übung Gruppe 1+2
DESCRIPTION:
DTSTAMP:20260422T193656
DTSTART;VALUE=DATE:20250116
DTEND;VALUE=DATE:20250117
SEQUENCE:0
TRANSP:OPAQUE
END:VEVENT
END:VCALENDAR