BEGIN:VCALENDAR
VERSION:2.0
PRODID:-//jEvents 2.0 for Joomla//EN
CALSCALE:GREGORIAN
METHOD:PUBLISH
BEGIN:VEVENT
UID:d7b832fc774a1fee1beb8b620a0b894c
CATEGORIES:Abt. Stadt
CREATED:20250104T123154
SUMMARY:Ausschusssitzung
DESCRIPTION:
DTSTAMP:20260420T114642
DTSTART;VALUE=DATE:20251121
DTEND;VALUE=DATE:20251122
SEQUENCE:0
TRANSP:OPAQUE
END:VEVENT
END:VCALENDAR