BEGIN:VCALENDAR
VERSION:2.0
PRODID:-//jEvents 2.0 for Joomla//EN
CALSCALE:GREGORIAN
METHOD:PUBLISH
BEGIN:VEVENT
UID:c1f706176f7b4def4e6b1e588ae65b24
CATEGORIES:Abt. Stadt
CREATED:20250104T123114
SUMMARY:Herbsthock
DESCRIPTION:
DTSTAMP:20260424T140124
DTSTART;VALUE=DATE:20251019
DTEND;VALUE=DATE:20251020
SEQUENCE:0
TRANSP:OPAQUE
END:VEVENT
END:VCALENDAR