BEGIN:VCALENDAR
VERSION:2.0
PRODID:-//jEvents 2.0 for Joomla//EN
CALSCALE:GREGORIAN
METHOD:PUBLISH
BEGIN:VEVENT
UID:22a68af12980198438262beacd771c61
CATEGORIES:Abt. Stadt
CREATED:20250104T123053
SUMMARY:ASG Übung
DESCRIPTION:
DTSTAMP:20260420T151843
DTSTART:20251015T170000
SEQUENCE:0
TRANSP:OPAQUE
END:VEVENT
END:VCALENDAR