BEGIN:VCALENDAR
VERSION:2.0
PRODID:-//jEvents 2.0 for Joomla//EN
CALSCALE:GREGORIAN
METHOD:PUBLISH
BEGIN:VEVENT
UID:bfa70fb9fac999a5f698ab6fa3a0417a
CATEGORIES:Gesamtwehr
CREATED:20250104T122953
SUMMARY:Führungsgruppe
DESCRIPTION:
DTSTAMP:20260422T120644
DTSTART;VALUE=DATE:20251002
DTEND;VALUE=DATE:20251003
SEQUENCE:0
TRANSP:OPAQUE
END:VEVENT
END:VCALENDAR