BEGIN:VCALENDAR
VERSION:2.0
PRODID:-//jEvents 2.0 for Joomla//EN
CALSCALE:GREGORIAN
METHOD:PUBLISH
BEGIN:VEVENT
UID:8d1067e710c21a31b05d88b96f165976
CATEGORIES:Gesamtwehr
CREATED:20250104T122932
SUMMARY:Führungsgruppe
DESCRIPTION:
DTSTAMP:20260422T130918
DTSTART;VALUE=DATE:20250730
DTEND;VALUE=DATE:20250731
SEQUENCE:0
TRANSP:OPAQUE
END:VEVENT
END:VCALENDAR