BEGIN:VCALENDAR
VERSION:2.0
PRODID:-//jEvents 2.0 for Joomla//EN
CALSCALE:GREGORIAN
METHOD:PUBLISH
BEGIN:VEVENT
UID:a611d3bf8ab6e6c0e43d34584efde514
CATEGORIES:Abt. Stadt
CREATED:20250104T122900
SUMMARY:Ausschusssitzung
DESCRIPTION:
DTSTAMP:20260422T193136
DTSTART;VALUE=DATE:20250919
DTEND;VALUE=DATE:20250920
SEQUENCE:0
TRANSP:OPAQUE
END:VEVENT
END:VCALENDAR