BEGIN:VCALENDAR
VERSION:2.0
PRODID:-//jEvents 2.0 for Joomla//EN
CALSCALE:GREGORIAN
METHOD:PUBLISH
BEGIN:VEVENT
UID:03e27f45c033d940a44d91dbf6efa594
CATEGORIES:Abt. Stadt
CREATED:20250104T122840
SUMMARY:Maschinistenübung
DESCRIPTION:
DTSTAMP:20260422T101817
DTSTART:20250917T170000
SEQUENCE:0
TRANSP:OPAQUE
END:VEVENT
END:VCALENDAR