BEGIN:VCALENDAR
VERSION:2.0
PRODID:-//jEvents 2.0 for Joomla//EN
CALSCALE:GREGORIAN
METHOD:PUBLISH
BEGIN:VEVENT
UID:c88941833793d8b3d614fdb86723bea2
CATEGORIES:Abt. Stadt
CREATED:20250104T122817
SUMMARY:ASG Übung
DESCRIPTION:
DTSTAMP:20260424T125028
DTSTART:20250820T170000
SEQUENCE:0
TRANSP:OPAQUE
END:VEVENT
END:VCALENDAR