BEGIN:VCALENDAR
VERSION:2.0
PRODID:-//jEvents 2.0 for Joomla//EN
CALSCALE:GREGORIAN
METHOD:PUBLISH
BEGIN:VEVENT
UID:84ce93b86a02443513ff7903ee2ed8a3
CATEGORIES:Abt. Stadt
CREATED:20250104T122733
SUMMARY:Maschinistenübung
DESCRIPTION:
DTSTAMP:20260422T165331
DTSTART:20250723T170000
SEQUENCE:0
TRANSP:OPAQUE
END:VEVENT
END:VCALENDAR