BEGIN:VCALENDAR
VERSION:2.0
PRODID:-//jEvents 2.0 for Joomla//EN
CALSCALE:GREGORIAN
METHOD:PUBLISH
BEGIN:VEVENT
UID:e1161deaf03de9bfea7a2c7a6ee1f8c2
CATEGORIES:JF Kandern
CREATED:20250104T122649
SUMMARY:Jubiläum
DESCRIPTION:
DTSTAMP:20260422T103933
DTSTART;VALUE=DATE:20250704
DTEND;VALUE=DATE:20250707
SEQUENCE:0
TRANSP:OPAQUE
END:VEVENT
END:VCALENDAR