BEGIN:VCALENDAR
VERSION:2.0
PRODID:-//jEvents 2.0 for Joomla//EN
CALSCALE:GREGORIAN
METHOD:PUBLISH
BEGIN:VEVENT
UID:2f93cd4d82d7188655f8008805ab6cd7
CATEGORIES:Abt. Stadt
CREATED:20250104T122613
SUMMARY:Grillfest
DESCRIPTION:
DTSTAMP:20260422T172710
DTSTART;VALUE=DATE:20250628
DTEND;VALUE=DATE:20250629
SEQUENCE:0
TRANSP:OPAQUE
END:VEVENT
END:VCALENDAR