BEGIN:VCALENDAR
VERSION:2.0
PRODID:-//jEvents 2.0 for Joomla//EN
CALSCALE:GREGORIAN
METHOD:PUBLISH
BEGIN:VEVENT
UID:2e2f8507f68beabbe952a04d871f914d
CATEGORIES:Abt. Stadt
CREATED:20250104T122553
SUMMARY:ASG Übung
DESCRIPTION:
DTSTAMP:20260422T164628
DTSTART:20250625T170000
SEQUENCE:0
TRANSP:OPAQUE
END:VEVENT
END:VCALENDAR