BEGIN:VCALENDAR
VERSION:2.0
PRODID:-//jEvents 2.0 for Joomla//EN
CALSCALE:GREGORIAN
METHOD:PUBLISH
BEGIN:VEVENT
UID:6a2dfa014e95f5904315e72bf386af49
CATEGORIES:Gesamtwehr
CREATED:20250104T122515
SUMMARY:Führungsgruppe
DESCRIPTION:
DTSTAMP:20260420T113020
DTSTART;VALUE=DATE:20250603
DTEND;VALUE=DATE:20250604
SEQUENCE:0
TRANSP:OPAQUE
END:VEVENT
END:VCALENDAR