BEGIN:VCALENDAR
VERSION:2.0
PRODID:-//jEvents 2.0 for Joomla//EN
CALSCALE:GREGORIAN
METHOD:PUBLISH
BEGIN:VEVENT
UID:a2fea88a558803450d3b7ce4afcfafd6
CATEGORIES:Abt. Stadt
CREATED:20250104T122448
SUMMARY:Maschinistenübung
DESCRIPTION:
DTSTAMP:20260422T152101
DTSTART:20250528T170000
SEQUENCE:0
TRANSP:OPAQUE
END:VEVENT
END:VCALENDAR