BEGIN:VCALENDAR
VERSION:2.0
PRODID:-//jEvents 2.0 for Joomla//EN
CALSCALE:GREGORIAN
METHOD:PUBLISH
BEGIN:VEVENT
UID:4a60da1afdec85242ff5d22a5281c283
CATEGORIES:Abt. Stadt
CREATED:20250104T122427
SUMMARY:Ausschusssitzung
DESCRIPTION:
DTSTAMP:20260422T142315
DTSTART;VALUE=DATE:20250523
DTEND;VALUE=DATE:20250524
SEQUENCE:0
TRANSP:OPAQUE
END:VEVENT
END:VCALENDAR