BEGIN:VCALENDAR
VERSION:2.0
PRODID:-//jEvents 2.0 for Joomla//EN
CALSCALE:GREGORIAN
METHOD:PUBLISH
BEGIN:VEVENT
UID:8cc13ca29f29b9e24c125725add94216
CATEGORIES:Abt. Stadt
CREATED:20250104T122352
SUMMARY:KATA Übung
DESCRIPTION:
DTSTAMP:20260420T124243
DTSTART;VALUE=DATE:20250516
DTEND;VALUE=DATE:20250517
SEQUENCE:0
TRANSP:OPAQUE
END:VEVENT
END:VCALENDAR