BEGIN:VCALENDAR
VERSION:2.0
PRODID:-//jEvents 2.0 for Joomla//EN
CALSCALE:GREGORIAN
METHOD:PUBLISH
BEGIN:VEVENT
UID:c25fce7db8cf68f23364dfb1ceb17587
CATEGORIES:Gesamtwehr
CREATED:20250104T122317
SUMMARY:Führungsgruppe
DESCRIPTION:
DTSTAMP:20260424T103739
DTSTART:20250508T170000
SEQUENCE:0
TRANSP:OPAQUE
END:VEVENT
END:VCALENDAR