BEGIN:VCALENDAR
VERSION:2.0
PRODID:-//jEvents 2.0 for Joomla//EN
CALSCALE:GREGORIAN
METHOD:PUBLISH
BEGIN:VEVENT
UID:d48e40a16afc0e935726acd7c11cceee
CATEGORIES:Abt. Stadt
CREATED:20250104T122238
SUMMARY:ASG Übung
DESCRIPTION:
DTSTAMP:20260420T104302
DTSTART:20250430T170000
SEQUENCE:0
TRANSP:OPAQUE
END:VEVENT
END:VCALENDAR