BEGIN:VCALENDAR
VERSION:2.0
PRODID:-//jEvents 2.0 for Joomla//EN
CALSCALE:GREGORIAN
METHOD:PUBLISH
BEGIN:VEVENT
UID:17e1e17b5d468a3c48bc779bfcc2617f
CATEGORIES:Abt. Stadt
CREATED:20250104T122157
SUMMARY:Maschinistenübung
DESCRIPTION:
DTSTAMP:20260420T123822
DTSTART:20250402T170000
SEQUENCE:0
TRANSP:OPAQUE
END:VEVENT
END:VCALENDAR