BEGIN:VCALENDAR
VERSION:2.0
PRODID:-//jEvents 2.0 for Joomla//EN
CALSCALE:GREGORIAN
METHOD:PUBLISH
BEGIN:VEVENT
UID:d1cec7b0c2156ef88b7f397416551a75
CATEGORIES:Gesamtwehr
CREATED:20250104T122134
SUMMARY:Hauptversammlung
DESCRIPTION:
DTSTAMP:20260422T185537
DTSTART;VALUE=DATE:20250329
DTEND;VALUE=DATE:20250330
SEQUENCE:0
TRANSP:OPAQUE
END:VEVENT
END:VCALENDAR