BEGIN:VCALENDAR
VERSION:2.0
PRODID:-//jEvents 2.0 for Joomla//EN
CALSCALE:GREGORIAN
METHOD:PUBLISH
BEGIN:VEVENT
UID:12e7c47e470426a875fb466a1adf661d
CATEGORIES:Gesamtwehr
CREATED:20250104T122011
SUMMARY:Führungsgruppe
DESCRIPTION:
DTSTAMP:20260422T102741
DTSTART:20250320T180000
SEQUENCE:0
TRANSP:OPAQUE
END:VEVENT
END:VCALENDAR