BEGIN:VCALENDAR
VERSION:2.0
PRODID:-//jEvents 2.0 for Joomla//EN
CALSCALE:GREGORIAN
METHOD:PUBLISH
BEGIN:VEVENT
UID:0ce153f60b2a895aa65e6da0936b93d1
CATEGORIES:Gesamtwehr
CREATED:20250104T121932
SUMMARY:Führungsgrupe
DESCRIPTION:
DTSTAMP:20260424T162614
DTSTART:20250311T180000
SEQUENCE:0
TRANSP:OPAQUE
END:VEVENT
END:VCALENDAR