BEGIN:VCALENDAR
VERSION:2.0
PRODID:-//jEvents 2.0 for Joomla//EN
CALSCALE:GREGORIAN
METHOD:PUBLISH
BEGIN:VEVENT
UID:85756f2f8422adb0a6ece1a39bb61b28
CATEGORIES:Abt. Stadt
CREATED:20250104T121843
SUMMARY:ASG Übung
DESCRIPTION:
DTSTAMP:20260422T083526
DTSTART:20250305T180000
SEQUENCE:0
TRANSP:OPAQUE
END:VEVENT
END:VCALENDAR