BEGIN:VCALENDAR
VERSION:2.0
PRODID:-//jEvents 2.0 for Joomla//EN
CALSCALE:GREGORIAN
METHOD:PUBLISH
BEGIN:VEVENT
UID:d5ab63cfb9827eefe44998e8625db130
CATEGORIES:Abt. Stadt
CREATED:20250104T121748
SUMMARY:Ausschusssitzung
DESCRIPTION:
DTSTAMP:20260422T142753
DTSTART;VALUE=DATE:20250221
DTEND;VALUE=DATE:20250222
SEQUENCE:0
TRANSP:OPAQUE
END:VEVENT
END:VCALENDAR