BEGIN:VCALENDAR
VERSION:2.0
PRODID:-//jEvents 2.0 for Joomla//EN
CALSCALE:GREGORIAN
METHOD:PUBLISH
BEGIN:VEVENT
UID:f2023db6f6de38b2ce049e0601f2b9d6
CATEGORIES:Gesamtwehr
CREATED:20250104T121659
SUMMARY:Führungsruppe
DESCRIPTION:
DTSTAMP:20260422T133420
DTSTART:20250213T180000
SEQUENCE:0
TRANSP:OPAQUE
END:VEVENT
END:VCALENDAR