BEGIN:VCALENDAR
VERSION:2.0
PRODID:-//jEvents 2.0 for Joomla//EN
CALSCALE:GREGORIAN
METHOD:PUBLISH
BEGIN:VEVENT
UID:f27f3065f293170f6806556887c06845
CATEGORIES:Abt. Stadt
CREATED:20250104T121621
SUMMARY:Maschinistenübung
DESCRIPTION:
DTSTAMP:20260420T123852
DTSTART:20250205T180000
SEQUENCE:0
TRANSP:OPAQUE
END:VEVENT
END:VCALENDAR