BEGIN:VCALENDAR
VERSION:2.0
PRODID:-//jEvents 2.0 for Joomla//EN
CALSCALE:GREGORIAN
METHOD:PUBLISH
BEGIN:VEVENT
UID:2f3ec9d339463251a51a320c2a4b3a71
CATEGORIES:Gesamtwehr
CREATED:20250104T121251
SUMMARY:Führungsgruppe
DESCRIPTION:
DTSTAMP:20260420T182526
DTSTART:20250204T180000
SEQUENCE:0
TRANSP:OPAQUE
END:VEVENT
END:VCALENDAR