BEGIN:VCALENDAR
VERSION:2.0
PRODID:-//jEvents 2.0 for Joomla//EN
CALSCALE:GREGORIAN
METHOD:PUBLISH
BEGIN:VEVENT
UID:1119467376dd934e6d2648fcd2aa83f5
CATEGORIES:Abt. Stadt
CREATED:20250104T120002
SUMMARY:Abteilungsversammlung
DESCRIPTION:
DTSTAMP:20260420T111507
DTSTART:20250111T170000
SEQUENCE:0
TRANSP:OPAQUE
END:VEVENT
END:VCALENDAR