BEGIN:VCALENDAR
VERSION:2.0
PRODID:-//jEvents 2.0 for Joomla//EN
CALSCALE:GREGORIAN
METHOD:PUBLISH
BEGIN:VEVENT
UID:4236e186552aad59c07abcb233bbb212
CATEGORIES:Abt. Stadt
CREATED:20250104T115945
SUMMARY:Gruppenführer/Zugführer
DESCRIPTION:
DTSTAMP:20260420T094216
DTSTART:20250108T180000
SEQUENCE:0
TRANSP:OPAQUE
END:VEVENT
END:VCALENDAR